BEGIN:VCALENDAR
VERSION:2.0
PRODID:-//Farmville Jumps - ECPv6.15.20//NONSGML v1.0//EN
CALSCALE:GREGORIAN
METHOD:PUBLISH
X-WR-CALNAME:Farmville Jumps
X-ORIGINAL-URL:https://farmvillejumps.com
X-WR-CALDESC:Events for Farmville Jumps
REFRESH-INTERVAL;VALUE=DURATION:PT1H
X-Robots-Tag:noindex
X-PUBLISHED-TTL:PT1H
BEGIN:VTIMEZONE
TZID:America/New_York
BEGIN:DAYLIGHT
TZOFFSETFROM:-0500
TZOFFSETTO:-0400
TZNAME:EDT
DTSTART:20250309T070000
END:DAYLIGHT
BEGIN:STANDARD
TZOFFSETFROM:-0400
TZOFFSETTO:-0500
TZNAME:EST
DTSTART:20251102T060000
END:STANDARD
BEGIN:DAYLIGHT
TZOFFSETFROM:-0500
TZOFFSETTO:-0400
TZNAME:EDT
DTSTART:20260308T070000
END:DAYLIGHT
BEGIN:STANDARD
TZOFFSETFROM:-0400
TZOFFSETTO:-0500
TZNAME:EST
DTSTART:20261101T060000
END:STANDARD
BEGIN:DAYLIGHT
TZOFFSETFROM:-0500
TZOFFSETTO:-0400
TZNAME:EDT
DTSTART:20270314T070000
END:DAYLIGHT
BEGIN:STANDARD
TZOFFSETFROM:-0400
TZOFFSETTO:-0500
TZNAME:EST
DTSTART:20271107T060000
END:STANDARD
END:VTIMEZONE
BEGIN:VEVENT
DTSTART;TZID=America/New_York:20260427T163000
DTEND;TZID=America/New_York:20260427T173000
DTSTAMP:20260424T005653
CREATED:20260325T090007Z
LAST-MODIFIED:20260325T091714Z
UID:2146-1777307400-1777311000@farmvillejumps.com
SUMMARY:Magic Monday!
DESCRIPTION:Join the Y Tribe for a high-energy low-impact workout sure to get your week off to a great start! The rebound boots are designed to reduce the impact on your joints significantly (80%) while allowing you to burn more calories than standard exercise in tennis shoes. This is a highly energized\, fun\, full body workout that will make you smile while you sweat! Included in your YMCA Membership. Non-members can get a YMCA Day Pass at the Welcome Desk ($10) to enjoy all the benefits the Y has to offer!
URL:https://farmvillejumps.com/event/magic-monday-9/
LOCATION:YMCA @ Farmville\, 580 Commerece Rd\, Farmville\, VA\, 23901\, United States
END:VEVENT
BEGIN:VEVENT
DTSTART;TZID=America/New_York:20260429T163000
DTEND;TZID=America/New_York:20260429T173000
DTSTAMP:20260424T005653
CREATED:20260325T091253Z
LAST-MODIFIED:20260325T091253Z
UID:2161-1777480200-1777483800@farmvillejumps.com
SUMMARY:Warrior Wednesday!
DESCRIPTION:Join the Y Tribe for a high-energy low-impact workout sure to keep you motivated and energized throughout the week! The rebound boots are designed to reduce the impact on your joints significantly (80%) while allowing you to burn more calories than standard exercise in tennis shoes. This is a highly energized\, fun\, full body workout that will make you smile while you sweat! Included in your YMCA Membership. Non-members can get a YMCA Day Pass at the Welcome Desk ($10) to enjoy all the benefits the Y has to offer!
URL:https://farmvillejumps.com/event/warrior-wednesday-16/
LOCATION:YMCA @ Farmville\, 580 Commerece Rd\, Farmville\, VA\, 23901\, United States
END:VEVENT
BEGIN:VEVENT
DTSTART;TZID=America/New_York:20260502T080000
DTEND;TZID=America/New_York:20260502T090000
DTSTAMP:20260424T005653
CREATED:20260420T144821Z
LAST-MODIFIED:20260420T144821Z
UID:2220-1777708800-1777712400@farmvillejumps.com
SUMMARY:Rebound 101!
DESCRIPTION:Learn how to put on and take off the boots. Learn proper form\, basic moves and modifications.  This is a smaller class setting to accommodate first time rebounders. \n**It is strongly suggested to take this class first (prior to regular rebound classes) if you are beginning your fitness journey. \nIncluded in your YMCA Membership. Non-members can get a YMCA Day Pass at the Welcome Desk ($10) to enjoy all the benefits the Y has to offer!
URL:https://farmvillejumps.com/event/rebound-101-9/
LOCATION:YMCA @ Farmville\, 580 Commerece Rd\, Farmville\, VA\, 23901\, United States
END:VEVENT
BEGIN:VEVENT
DTSTART;TZID=America/New_York:20260502T090000
DTEND;TZID=America/New_York:20260502T100000
DTSTAMP:20260424T005653
CREATED:20260420T145105Z
LAST-MODIFIED:20260420T145105Z
UID:2223-1777712400-1777716000@farmvillejumps.com
SUMMARY:Basic Rebound
DESCRIPTION:This is a high energy low-impact workout sure to get your week off to a great start. Today we will focus on basic moves with perfect form!  The rebound boots are designed to reduce the impact on your joints significantly (80%) while allowing you to burn more calories than standard exercise in tennis shoes. This is a highly energized\, fun\, full body workout that will make you smile while you sweat! Included in your YMCA Membership. Non-members can get a YMCA Day Pass at the Welcome Desk ($10) to enjoy all the benefits the Y has to offer!
URL:https://farmvillejumps.com/event/basic-rebound-9/
LOCATION:YMCA @ Farmville\, 580 Commerece Rd\, Farmville\, VA\, 23901\, United States
END:VEVENT
END:VCALENDAR